BEGIN:VCALENDAR
VERSION:2.0
PRODID:-//Oosterse Afrikaanse Kring - ECPv6.0.8//NONSGML v1.0//EN
CALSCALE:GREGORIAN
METHOD:PUBLISH
X-WR-CALNAME:Oosterse Afrikaanse Kring
X-ORIGINAL-URL:https://oak.fkgent.be
X-WR-CALDESC:Evenementen voor Oosterse Afrikaanse Kring
REFRESH-INTERVAL;VALUE=DURATION:PT1H
X-Robots-Tag:noindex
X-PUBLISHED-TTL:PT1H
BEGIN:VTIMEZONE
TZID:Europe/Paris
BEGIN:DAYLIGHT
TZOFFSETFROM:+0100
TZOFFSETTO:+0200
TZNAME:CEST
DTSTART:20240331T010000
END:DAYLIGHT
BEGIN:STANDARD
TZOFFSETFROM:+0200
TZOFFSETTO:+0100
TZNAME:CET
DTSTART:20241027T010000
END:STANDARD
BEGIN:DAYLIGHT
TZOFFSETFROM:+0100
TZOFFSETTO:+0200
TZNAME:CEST
DTSTART:20250330T010000
END:DAYLIGHT
BEGIN:STANDARD
TZOFFSETFROM:+0200
TZOFFSETTO:+0100
TZNAME:CET
DTSTART:20251026T010000
END:STANDARD
END:VTIMEZONE
BEGIN:VEVENT
DTSTART;VALUE=DATE:20250514
DTEND;VALUE=DATE:20250515
DTSTAMP:20260421T193405
CREATED:20250322T155406Z
LAST-MODIFIED:20250322T155406Z
UID:2001-1747180800-1747267199@oak.fkgent.be
SUMMARY:OAK ZwanenzangCantus
DESCRIPTION:
URL:https://oak.fkgent.be/event/oak-zwanenzangcantus-2/
LOCATION:Karaoke
CATEGORIES:'24-'25 sem 2
END:VEVENT
BEGIN:VEVENT
DTSTART;VALUE=DATE:20250512
DTEND;VALUE=DATE:20250513
DTSTAMP:20260421T193405
CREATED:20250126T185737Z
LAST-MODIFIED:20250126T185737Z
UID:1833-1747008000-1747094399@oak.fkgent.be
SUMMARY:OAK Studiemarathon
DESCRIPTION:
URL:https://oak.fkgent.be/event/oak-studiemarathon/
CATEGORIES:'24-'25 sem 2
END:VEVENT
BEGIN:VEVENT
DTSTART;VALUE=DATE:20250506
DTEND;VALUE=DATE:20250507
DTSTAMP:20260421T193405
CREATED:20241109T230109Z
LAST-MODIFIED:20250126T190435Z
UID:1770-1746489600-1746575999@oak.fkgent.be
SUMMARY:OAKubb & Badminton
DESCRIPTION:
URL:https://oak.fkgent.be/event/oakubb-badminton/
CATEGORIES:'24-'25 sem 2
END:VEVENT
BEGIN:VEVENT
DTSTART;TZID=Europe/Paris:20250502T203000
DTEND;TZID=Europe/Paris:20250502T233000
DTSTAMP:20260421T193405
CREATED:20241109T231046Z
LAST-MODIFIED:20250322T155046Z
UID:1784-1746217800-1746228600@oak.fkgent.be
SUMMARY:OAK Vriendjes & familiecantus
DESCRIPTION:
URL:https://oak.fkgent.be/event/oak-vriendjes-familiecantus/
CATEGORIES:'24-'25 sem 2
END:VEVENT
BEGIN:VEVENT
DTSTART;VALUE=DATE:20250429
DTEND;VALUE=DATE:20250430
DTSTAMP:20260421T193405
CREATED:20241109T231438Z
LAST-MODIFIED:20241109T231438Z
UID:1792-1745884800-1745971199@oak.fkgent.be
SUMMARY:12-URENLOOP
DESCRIPTION:
URL:https://oak.fkgent.be/event/12-urenloop/
CATEGORIES:'24-'25 sem 2
END:VEVENT
BEGIN:VEVENT
DTSTART;VALUE=DATE:20250428
DTEND;VALUE=DATE:20250429
DTSTAMP:20260421T193405
CREATED:20241109T231359Z
LAST-MODIFIED:20241109T231359Z
UID:1790-1745798400-1745884799@oak.fkgent.be
SUMMARY:OAKookt
DESCRIPTION:
URL:https://oak.fkgent.be/event/oakookt/
CATEGORIES:'24-'25 sem 2
END:VEVENT
BEGIN:VEVENT
DTSTART;VALUE=DATE:20250404
DTEND;VALUE=DATE:20250405
DTSTAMP:20260421T193405
CREATED:20241109T225619Z
LAST-MODIFIED:20250123T151225Z
UID:1760-1743724800-1743811199@oak.fkgent.be
SUMMARY:Pro OAK Avond
DESCRIPTION:
URL:https://oak.fkgent.be/event/pro-oak-avond/
CATEGORIES:'24-'25 sem 2
END:VEVENT
BEGIN:VEVENT
DTSTART;VALUE=DATE:20250403
DTEND;VALUE=DATE:20250404
DTSTAMP:20260421T193405
CREATED:20250322T154938Z
LAST-MODIFIED:20250322T154938Z
UID:1997-1743638400-1743724799@oak.fkgent.be
SUMMARY:OAK naar de Moskee
DESCRIPTION:
URL:https://oak.fkgent.be/event/oak-naar-de-moskee/
CATEGORIES:'24-'25 sem 2
END:VEVENT
BEGIN:VEVENT
DTSTART;VALUE=DATE:20250402
DTEND;VALUE=DATE:20250403
DTSTAMP:20260421T193405
CREATED:20241109T231154Z
LAST-MODIFIED:20241109T231154Z
UID:1786-1743552000-1743638399@oak.fkgent.be
SUMMARY:OAK Jong-bloedvergadering
DESCRIPTION:
URL:https://oak.fkgent.be/event/oak-jong-bloedvergadering/
CATEGORIES:'24-'25 sem 2
END:VEVENT
BEGIN:VEVENT
DTSTART;VALUE=DATE:20250331
DTEND;VALUE=DATE:20250401
DTSTAMP:20260421T193405
CREATED:20250322T155256Z
LAST-MODIFIED:20250322T155256Z
UID:1999-1743379200-1743465599@oak.fkgent.be
SUMMARY:OAK Lezing Kolonisatie
DESCRIPTION:
URL:https://oak.fkgent.be/event/oak-lezing-kolonisatie/
CATEGORIES:'24-'25 sem 2
END:VEVENT
BEGIN:VEVENT
DTSTART;VALUE=DATE:20250326
DTEND;VALUE=DATE:20250327
DTSTAMP:20260421T193405
CREATED:20241109T230829Z
LAST-MODIFIED:20250322T154908Z
UID:1782-1742947200-1743033599@oak.fkgent.be
SUMMARY:OAK Cocktailavond
DESCRIPTION:
URL:https://oak.fkgent.be/event/oak-gaat-naar-het-afrika-museum/
CATEGORIES:'24-'25 sem 2
END:VEVENT
BEGIN:VEVENT
DTSTART;VALUE=DATE:20250319
DTEND;VALUE=DATE:20250320
DTSTAMP:20260421T193405
CREATED:20241109T230733Z
LAST-MODIFIED:20241109T230733Z
UID:1780-1742342400-1742428799@oak.fkgent.be
SUMMARY:LANdijn
DESCRIPTION:
URL:https://oak.fkgent.be/event/landijn/
LOCATION:De Blandijn\, Blandijnberg 2\, Gent\, Oost-Vlaanderen\, 9000\, België
CATEGORIES:'24-'25 sem 2
END:VEVENT
BEGIN:VEVENT
DTSTART;TZID=Europe/Paris:20250317T190000
DTEND;TZID=Europe/Paris:20250317T220000
DTSTAMP:20260421T193405
CREATED:20250126T190726Z
LAST-MODIFIED:20250126T190726Z
UID:1841-1742238000-1742248800@oak.fkgent.be
SUMMARY:OAK Lezing
DESCRIPTION:
URL:https://oak.fkgent.be/event/oak-lezing/
CATEGORIES:'24-'25 sem 2
END:VEVENT
BEGIN:VEVENT
DTSTART;VALUE=DATE:20250314
DTEND;VALUE=DATE:20250315
DTSTAMP:20260421T193405
CREATED:20250217T145050Z
LAST-MODIFIED:20250217T145552Z
UID:1986-1741910400-1741996799@oak.fkgent.be
SUMMARY:OAK LUSTRUM GALARECEPTIE
DESCRIPTION:
URL:https://oak.fkgent.be/event/oak-lustrum-galareceptie/
CATEGORIES:'24-'25 sem 2
END:VEVENT
BEGIN:VEVENT
DTSTART;TZID=Europe/Paris:20250313T203000
DTEND;TZID=Europe/Paris:20250313T233000
DTSTAMP:20260421T193405
CREATED:20241109T230637Z
LAST-MODIFIED:20241109T230637Z
UID:1778-1741897800-1741908600@oak.fkgent.be
SUMMARY:OAK LUSTRUMCANTUS
DESCRIPTION:
URL:https://oak.fkgent.be/event/oak-lustrumcantus/
CATEGORIES:'24-'25 sem 2
END:VEVENT
BEGIN:VEVENT
DTSTART;VALUE=DATE:20250312
DTEND;VALUE=DATE:20250313
DTSTAMP:20260421T193405
CREATED:20250217T144946Z
LAST-MODIFIED:20250217T145619Z
UID:1984-1741737600-1741823999@oak.fkgent.be
SUMMARY:OAK LUSTRUM THEEAVOND
DESCRIPTION:
URL:https://oak.fkgent.be/event/oak-lustrum-theeavond/
CATEGORIES:'24-'25 sem 2
END:VEVENT
BEGIN:VEVENT
DTSTART;VALUE=DATE:20250311
DTEND;VALUE=DATE:20250312
DTSTAMP:20260421T193405
CREATED:20250217T144917Z
LAST-MODIFIED:20250217T145637Z
UID:1982-1741651200-1741737599@oak.fkgent.be
SUMMARY:OAK LUSTRUM CHINESE EETAVOND
DESCRIPTION:
URL:https://oak.fkgent.be/event/oak-lustrum-chinese-eetavond/
CATEGORIES:'24-'25 sem 2
END:VEVENT
BEGIN:VEVENT
DTSTART;VALUE=DATE:20250310
DTEND;VALUE=DATE:20250315
DTSTAMP:20260421T193405
CREATED:20241109T230324Z
LAST-MODIFIED:20241109T230324Z
UID:1774-1741564800-1741996799@oak.fkgent.be
SUMMARY:OAK LUSTRUMWEEK
DESCRIPTION:
URL:https://oak.fkgent.be/event/oak-lustrumweek/
CATEGORIES:'24-'25 sem 2
END:VEVENT
BEGIN:VEVENT
DTSTART;VALUE=DATE:20250310
DTEND;VALUE=DATE:20250311
DTSTAMP:20260421T193405
CREATED:20241109T230438Z
LAST-MODIFIED:20250217T145657Z
UID:1776-1741564800-1741651199@oak.fkgent.be
SUMMARY:OAK LUSTRUM QUIZ + GRATIS VAT
DESCRIPTION:
URL:https://oak.fkgent.be/event/oak-lustrum-gratis-vat/
CATEGORIES:'24-'25 sem 2
END:VEVENT
BEGIN:VEVENT
DTSTART;VALUE=DATE:20250306
DTEND;VALUE=DATE:20250307
DTSTAMP:20260421T193405
CREATED:20250126T190541Z
LAST-MODIFIED:20250126T190541Z
UID:1839-1741219200-1741305599@oak.fkgent.be
SUMMARY:OAK Vechtsport
DESCRIPTION:
URL:https://oak.fkgent.be/event/oak-vechtsport/
CATEGORIES:'24-'25 sem 2
END:VEVENT
BEGIN:VEVENT
DTSTART;TZID=Europe/Paris:20250304T190000
DTEND;TZID=Europe/Paris:20250304T200000
DTSTAMP:20260421T193405
CREATED:20250126T190031Z
LAST-MODIFIED:20250126T190031Z
UID:1837-1741114800-1741118400@oak.fkgent.be
SUMMARY:Vakkenoverloop Arabistiek & Indologie
DESCRIPTION:
URL:https://oak.fkgent.be/event/vakkenoverloop-arabistiek-indologie/
CATEGORIES:'24-'25 sem 2
END:VEVENT
BEGIN:VEVENT
DTSTART;VALUE=DATE:20250304
DTEND;VALUE=DATE:20250305
DTSTAMP:20260421T193405
CREATED:20241109T230222Z
LAST-MODIFIED:20241109T230222Z
UID:1772-1741046400-1741132799@oak.fkgent.be
SUMMARY:OAK Filmavond
DESCRIPTION:
URL:https://oak.fkgent.be/event/oak-filmavond-3/
CATEGORIES:'24-'25 sem 2
END:VEVENT
BEGIN:VEVENT
DTSTART;TZID=Europe/Paris:20250303T143000
DTEND;TZID=Europe/Paris:20250303T153000
DTSTAMP:20260421T193405
CREATED:20250126T185926Z
LAST-MODIFIED:20250126T185926Z
UID:1835-1741012200-1741015800@oak.fkgent.be
SUMMARY:Vakkenoverloop Sinologie & Afrikanistiek
DESCRIPTION:
URL:https://oak.fkgent.be/event/vakkenoverloop-sinologie-afrikanistiek/
CATEGORIES:'24-'25 sem 2
END:VEVENT
BEGIN:VEVENT
DTSTART;TZID=Europe/Paris:20250226T090000
DTEND;TZID=Europe/Paris:20250227T090000
DTSTAMP:20260421T193405
CREATED:20241109T230026Z
LAST-MODIFIED:20250126T194357Z
UID:1768-1740560400-1740646800@oak.fkgent.be
SUMMARY:24 van 't Krawietelke
DESCRIPTION:Beste tooghangers van ’t Krawietelke\nNa een jammer afscheid van de Amber\, zetten we graag in het café ernaast een legendarische traditie verder: de 24 uur! Zowel gekende als nieuwe kringen en clubs zullen hun handen onder dit evenement zetten om het klokje rond te tonen waarom de hoek aan de Blandijnberg de beste plek blijft om ééntje (of twee\, of …) te drinken!\nKom op 26 februari samen met Drakentemmers\, GBK\, Lombrosiana\, OAK\, Moeder Domper\, V.G.K.\, KHK\, Moeder Zeug en Filologica een heel etmaal genieten van alle activiteiten die wij voor jullie in petto hebben! Wie 24 uur volhoudt kan zich tevens verwachten aan een mooie beloning…\nPROGRAMMA:9u – 9u: ?? ?? ??\nHoudt het evenement zeker in de gaten\, activiteiten worden komende dagen en weken aangekondigd!\nHopelijk kijken jullie er even hard naar uit als wij!\nGroetjesDe Krawietelverenigingen
URL:https://oak.fkgent.be/event/24-van-t-krawietelke/
LOCATION:Krawietelke
CATEGORIES:'24-'25 sem 2
ATTACH;FMTTYPE=image/jpeg:https://oak.fkgent.be/wp-content/uploads/2024/11/472582133_1002898538542446_7118609721014843578_n.jpg
END:VEVENT
BEGIN:VEVENT
DTSTART;VALUE=DATE:20250225
DTEND;VALUE=DATE:20250226
DTSTAMP:20260421T193405
CREATED:20241109T225834Z
LAST-MODIFIED:20241109T225834Z
UID:1766-1740441600-1740527999@oak.fkgent.be
SUMMARY:OAK Just Dance
DESCRIPTION:
URL:https://oak.fkgent.be/event/oak-just-dance/
CATEGORIES:'24-'25 sem 2
END:VEVENT
BEGIN:VEVENT
DTSTART;VALUE=DATE:20250219
DTEND;VALUE=DATE:20250220
DTSTAMP:20260421T193405
CREATED:20241109T225758Z
LAST-MODIFIED:20241109T225758Z
UID:1764-1739923200-1740009599@oak.fkgent.be
SUMMARY:OAK Buddy karaoke terugkommoment
DESCRIPTION:
URL:https://oak.fkgent.be/event/oak-buddy-karaoke-terugkommoment/
CATEGORIES:'24-'25 sem 2
END:VEVENT
BEGIN:VEVENT
DTSTART;VALUE=DATE:20250217
DTEND;VALUE=DATE:20250218
DTSTAMP:20260421T193405
CREATED:20241109T225656Z
LAST-MODIFIED:20241109T225656Z
UID:1762-1739750400-1739836799@oak.fkgent.be
SUMMARY:OAK Cultuurworkshop
DESCRIPTION:
URL:https://oak.fkgent.be/event/oak-cultuurworkshop/
CATEGORIES:'24-'25 sem 2
END:VEVENT
BEGIN:VEVENT
DTSTART;TZID=Europe/Paris:20250212T203000
DTEND;TZID=Europe/Paris:20250212T203000
DTSTAMP:20260421T193405
CREATED:20241109T225518Z
LAST-MODIFIED:20241109T225518Z
UID:1758-1739392200-1739392200@oak.fkgent.be
SUMMARY:OAK Cantus
DESCRIPTION:
URL:https://oak.fkgent.be/event/oak-cantus/
LOCATION:Delta\, Stalhof 17\, Gent\, 9000\, België
CATEGORIES:'24-'25 sem 2
END:VEVENT
BEGIN:VEVENT
DTSTART;TZID=Europe/Paris:20241009T220000
DTEND;TZID=Europe/Paris:20241009T233000
DTSTAMP:20260421T193405
CREATED:20250126T192612Z
LAST-MODIFIED:20250126T192612Z
UID:1852-1728511200-1728516600@oak.fkgent.be
SUMMARY:Blandinia Openingsfuif
DESCRIPTION:Hey allemaal\,\n\nOm het nieuwe academiejaar in te luiden organiseren we een spetterende openingsfuif. Verwacht je aan een onvergetelijke avond! Dansen\, goedkope cocktails\, historische kostuums … Al geïnteresseerd?\n\nWaar: DeltaWanneer: 9 oktober\, 22:00-02:00Happy hour: 00:00-01:00Thema: back in time
URL:https://oak.fkgent.be/event/blandinia-openingsfuif/
CATEGORIES:'24-'25 sem 2
END:VEVENT
END:VCALENDAR